BEGIN:VCALENDAR
VERSION:2.0
PRODID:-//L&#039;École de Capucine - ECPv6.15.13.1//NONSGML v1.0//EN
CALSCALE:GREGORIAN
METHOD:PUBLISH
X-ORIGINAL-URL:https://lecoledecapucine.com
X-WR-CALDESC:Évènements pour L&#039;École de Capucine
REFRESH-INTERVAL;VALUE=DURATION:PT1H
X-Robots-Tag:noindex
X-PUBLISHED-TTL:PT1H
BEGIN:VTIMEZONE
TZID:UTC
BEGIN:STANDARD
TZOFFSETFROM:+0000
TZOFFSETTO:+0000
TZNAME:UTC
DTSTART:20170101T000000
END:STANDARD
END:VTIMEZONE
BEGIN:VEVENT
DTSTART;TZID=UTC:20200304T190000
DTEND;TZID=UTC:20200304T213000
DTSTAMP:20260422T125808
CREATED:20190715T135234Z
LAST-MODIFIED:20200227T093739Z
UID:2064-1583348400-1583357400@lecoledecapucine.com
SUMMARY:Conférence-atelier : la créativité érotique
DESCRIPTION:LA CONFÉRENCE EST REPORTÉE\, VOUS SEREZ INFORMÉ-E-S DE LA PROCHAINE RENCONTRE SI VOUS ÊTES INSCRIT-E-S À NOTRE LETTRE D’INFORMATION !  \nAU PLAISIR DE VOUS RETROUVER !  \nLorsque nous nous rencontrons érotiquement\, une chorégraphie se met petit à petit en place\, plus ou moins timidement\, plus ou moins rapidement\, plus ou moins facilement. Nous apprenons l’un de l’autre\, nous exprimons -ou taisons- nos goûts\, nous entendons -ou devinons- ceux de l’autre\, nous nous adaptons. Au fil du temps\, si l’on n’y prend garde\, les gestes peuvent devenir répétitifs\, il devient difficile d’aller dans des endroits non explorés encore ensemble\, et l’échange peut se compliquer. En plus\, le quotidien et ses contraintes a une fâcheuse tendance à simplifier les séquences et les jeux ! Idem lorsque nous ne sommes pas en relation de longue durée\, nous répétons parfois avec nos différents partenaires les approches qui nous rassurent\, celles que nous maîtrisons\, et à force nous nous appauvrissons. \nComment injecter alors de la créativité dans nos ébats avec fluidité? comment la préserver au fil du temps? comment devenir et rester des explorateurs érotiques ?! \nCette soirée complète comprendra : \n\nune conférence animée par Capucine Moreau\, qui vous proposera des pistes d’action et de réflexion;\ndes échanges animés (avec des techniques d’animation de groupe qui permettent de vite se sentir à l’aise !);\nun temps convivial informel autour d’un verre …\n\nElle s’adresse à toutes et tous\, que vous veniez seul-e\, en couple\, ou entre ami-e-s !
URL:https://lecoledecapucine.com/evenement/conference-atelier-la-creativite-erotique
LOCATION:Lab’Oikos\, 32 rue Riquet\, Toulouse\, France
CATEGORIES:Conférences
END:VEVENT
BEGIN:VEVENT
DTSTART;TZID=UTC:20200118T150000
DTEND;TZID=UTC:20200118T173000
DTSTAMP:20260422T125808
CREATED:20190918T084222Z
LAST-MODIFIED:20200117T202050Z
UID:2494-1579359600-1579368600@lecoledecapucine.com
SUMMARY:Atelier-outil : Clown érotique (1)
DESCRIPTION:Dans le cadre du module thématique « la créativité érotique »\, c’est par les techniques du clown sensitif que nous vous invitons aujourd’hui à découvrir et enrichir votre champ érotique.  \nRencontrer le clown qui sommeille en soi\, c’est se donner la possibilité de découvrir ses dimensions cachées : les facettes de notre personnalité que nous n’avons pas l’occasion de mettre en avant au quotidien. En les extériorisant\, cela permet de reconstituer petit à petit les bouts de notre intériorité. Et en devenant conscient de ce que nous sommes\, nous recommençons progressivement à devenir ce que nous sommes et à cultiver et affirmer notre identité singulière au plus grand bonheur de soi et des autres ! \nDans cet atelier\,  nous irons à la rencontre de notre dimension érotique cachée. Celle que nous portons quelque part en nous et qui ne demande qu’à être reconnue. Nous irons lui donner naissance\, l’accueillir\, la cultiver\, l’enrichir\, l’affirmer en toute bienveillance et non-jugement. \nC’est notre clown qui nous montrera le chemin. Faites-lui confiance\, laissez vous guider par lui. Le clown est joueur. Il n’a pas peur des jugements. Il suit ses intuitions. Le plus petit masque du monde vous aidera à entrer dans l’état d’esprit du joueur. \nNous jouerons à/avec :\n–       l’érotisme dans tout ce qu’il nous inspire comme imaginaire\n–       ne pas être sérieux\n–       lâcher prise\n–       aimer notre corps\, nous sentir bien dedans\n–       faire grandir notre confiance\n–       libérer notre érotisme\, nos fantasmes\, notre audace\n–       danser\, parader\n–       exprimer nos désirs et à développer notre sensualité à travers le langage non-verbal\n–       nous habiller\, nous parer\, nous déshabiller\n–       nous laisser regarder\n–       regarder l’autre \n3 ateliers seront déclinés dans l’année\, ils sont indépendants\, vous pouvez vous inscrire à tous ou à un seul !  Ils s’adressent à toutes et tous\, aucune pratique préalable n’est nécessaire.  \nIl sera animé par Emilie Auvray\, comédienne et thérapeute psychocorporelle\, et Capucine Moreau\, sexologue et créatrice de L’École de Capucine. 
URL:https://lecoledecapucine.com/evenement/atelier-outil-clown-erotique-1
LOCATION:Localune\, 14 Rue Saint-Bertrand\, Toulouse\, 31500
CATEGORIES:Ateliers plus de 18 ans
END:VEVENT
BEGIN:VEVENT
DTSTART;TZID=UTC:20190312T190000
DTEND;TZID=UTC:20190312T220000
DTSTAMP:20260422T125808
CREATED:20190108T091603Z
LAST-MODIFIED:20190213T141936Z
UID:1366-1552417200-1552428000@lecoledecapucine.com
SUMMARY:Conférence : la créativité érotique
DESCRIPTION:Lorsque nous nous rencontrons érotiquement\, une chorégraphie se met petit à petit en place\, plus ou moins timidement\, plus ou moins rapidement\, plus ou moins facilement. Nous apprenons l’un de l’autre\, nous exprimons -ou taisons- nos goûts\, nous entendons -ou devinons- ceux de l’autre\, nous nous adaptons. Au fil du temps\, si l’on n’y prend garde\, les gestes peuvent devenir répétitifs\, il devient difficile d’aller dans des endroits non explorés encore ensemble\, et l’échange peut se compliquer. En plus\, le quotidien et ses contraintes a une fâcheuse tendance à simplifier les séquences et les jeux ! Idem lorsque nous ne sommes pas en relation de longue durée\, nous répétons parfois avec nos différents partenaires les approches qui nous rassurent\, celles que nous maîtrisons\, et à force nous nous appauvrissons. \nComment injecter alors de la créativité dans nos ébats avec fluidité? comment la préserver au fil du temps? comment devenir et rester des explorateurs érotiques ?! \nLe soirée comprendra une conférence animée par Capucine Moreau\, qui vous proposera des pistes d’action et de réflexion. Vous pourrez aussi intervenir et témoigner\, uniquement si vous en avez envie ! Elle sera suivie d’un temps convivial informel autour d’un verre … \n  \nDéroulé :  \nAccueil à partir de 19h \nConférence intéractive de 19h30 à 21h\nSur réservation \nEntrée libre à partir de 21h pour le temps convivial informel.
URL:https://lecoledecapucine.com/evenement/conference-la-creativite-erotique
LOCATION:Bakélite\, 11 Descente de la Halle aux Poissons\, Toulouse\, 31000
CATEGORIES:Conférences
END:VEVENT
BEGIN:VEVENT
DTSTART;TZID=UTC:20190211T190000
DTEND;TZID=UTC:20190211T213000
DTSTAMP:20260422T125808
CREATED:20190116T090259Z
LAST-MODIFIED:20190205T082818Z
UID:1400-1549911600-1549920600@lecoledecapucine.com
SUMMARY:Atelier : écriture érotique
DESCRIPTION:@NadiavonFoutre \n//  ATELIER DU MODULE 3 – LA CRÉATIVITÉ ÉROTIQUE // \nDans le cadre de ce nouveau module thématique « la créativité érotique »\, c’est par le biais de l’écriture que nous vous proposons aujourd’hui d’ouvrir et d’agrandir votre espace érotique. \nComment accéder aux mots de l’érotisme ? comment les accepter quand ils surgissent de nous\, comment aller les chercher lorsqu’ils sont plus enfouis? comment les prononcer\, les assumer\, comment s’en amuser ? comment la façon de les dire\, de les caresser\, de les hurler\, contient déjà une matière et une charge érotique créative ?! \nComment par le biais de ces mots peut-on aller dans des endroits inconnus\, renforcer notre imagination\, exciter nos sens\, inventer de nouvelles façons de se rencontrer ? \nDans cet atelier\, nous vous proposons de nous découvrir ensemble\, par le biais d’exercices et de jeux d’écriture variés\, en individuel\, en binôme\, en collectif\, soutenus par des images et un cadre inspirant et sécurisant. \nIl s’adresse à toutes et tous\, que vous ayez ou non une pratique préalable de l’écriture. \nIl sera animé par Élise Vandel\, accompagnatrice en écriture\,  et Capucine Moreau\, sexologue et fondatrice de L’École de Capucine.
URL:https://lecoledecapucine.com/evenement/atelier-ecriture-erotique
LOCATION:Lab’Oikos\, 32 rue Riquet\, Toulouse\, France
CATEGORIES:Ateliers plus de 18 ans
END:VEVENT
BEGIN:VEVENT
DTSTART;TZID=UTC:20180206T190000
DTEND;TZID=UTC:20180206T210000
DTSTAMP:20260422T125808
CREATED:20180119T073339Z
LAST-MODIFIED:20180119T073339Z
UID:659-1517943600-1517950800@lecoledecapucine.com
SUMMARY:Atelier : la créativité érotique
DESCRIPTION:  \nLorsque nous nous rencontrons érotiquement\, une chorégraphie se met petit à petit en place\, plus ou moins timidement\, plus ou moins rapidement\, plus ou moins facilement. Nous apprenons l’un de l’autre\, nous exprimons -ou taisons- nos goûts\, nous entendons -ou devinons- ceux de l’autre\, nous nous adaptons. Au fil du temps\, si l’on n’y prend garde\, les gestes peuvent devenir répétitifs\, il devient difficile d’aller dans des endroits non explorés encore ensemble\, et l’échange peut se compliquer. En plus\, le quotidien et ses contraintes a une fâcheuse tendance à simplifier les séquences et les jeux ! Idem lorsque nous ne sommes pas en relation de longue durée\, nous répétons parfois avec nos différents partenaires les approches qui nous rassurent\, celles que nous maîtrisons\, et à force nous nous appauvrissons. \nComment injecter alors de la créativité dans nos ébats avec fluidité? comment la préserver au fil du temps? comment devenir et rester des explorateurs érotiques ?! \nDans cet atelier\, nous vous proposons de nous inspirer ensemble\, par quelques apports théoriques mais surtout par le biais d’échanges (avec des techniques d’animation de groupe qui permettent de vite se sentir à l’aise !). Il est mixte\, et s’adresse à toutes et tous. \n(Paiement sur place\, de préférence en espèce. Merci de nous prévenir en cas de désistement)  \nILLUSTRATION : Nadia von Foutre
URL:https://lecoledecapucine.com/evenement/atelier-creativite-erotique
LOCATION:Lab’Oikos\, 32 rue Riquet\, Toulouse\, France
CATEGORIES:Ateliers plus de 18 ans
ATTACH;FMTTYPE=image/png:https://lecoledecapucine.com/wp-content/uploads/2017/11/nadia5.png
END:VEVENT
END:VCALENDAR