BEGIN:VCALENDAR
VERSION:2.0
PRODID:-//L&#039;École de Capucine - ECPv6.15.13.1//NONSGML v1.0//EN
CALSCALE:GREGORIAN
METHOD:PUBLISH
X-WR-CALNAME:L&#039;École de Capucine
X-ORIGINAL-URL:https://lecoledecapucine.com
X-WR-CALDESC:Évènements pour L&#039;École de Capucine
REFRESH-INTERVAL;VALUE=DURATION:PT1H
X-Robots-Tag:noindex
X-PUBLISHED-TTL:PT1H
BEGIN:VTIMEZONE
TZID:UTC
BEGIN:STANDARD
TZOFFSETFROM:+0000
TZOFFSETTO:+0000
TZNAME:UTC
DTSTART:20160101T000000
END:STANDARD
END:VTIMEZONE
BEGIN:VEVENT
DTSTART;TZID=UTC:20171128T190000
DTEND;TZID=UTC:20171128T210000
DTSTAMP:20260424T132342
CREATED:20171106T165741Z
LAST-MODIFIED:20171122T075144Z
UID:114-1511895600-1511902800@lecoledecapucine.com
SUMMARY:Atelier plus de 18 ans : Cultivons nos érotismes !
DESCRIPTION:Premier atelier de l’Ecole\, il est tout naturel que nous commencions par aborder la question de la culture de l’érotisme\, dans la continuité de la soirée de lancement…\n\n\n \n\n\nA quoi est rattaché l’érotisme\, en moi et en l’Autre ? au plaisir de la vie en général ? aux sensations physiques\, à l’ébullition intellectuelle ? aux échanges ? à la curiosité\, à la créativité ? à la surprise ? \n\n\n \n\n\nQu’est-ce que je fais pour l’entretenir au quotidien\, pour garder allumée la petite flamme de la vie qui me permet de rester vivant-e et de garder vivant-e-s mes relations ?\n\n\n \n\n\nAppuyés par quelques apports théoriques\, et par des techniques d’animation de groupe\, nous cheminerons ensemble dans cette réflexion\, dans un climat de bienveillance et de partage.
URL:https://lecoledecapucine.com/evenement/atelier-cultivons-nos-erotismes
LOCATION:Lab’Oikos\, 32 rue Riquet\, Toulouse\, France
CATEGORIES:Ateliers,Ateliers plus de 18 ans
ATTACH;FMTTYPE=image/jpeg:https://lecoledecapucine.com/wp-content/uploads/2017/11/cycles-couples2.jpg
END:VEVENT
END:VCALENDAR